BEGIN:VCALENDAR
VERSION:2.0
PRODID:icalendar-ruby
CALSCALE:GREGORIAN
METHOD:PUBLISH
BEGIN:VEVENT
DTSTAMP:20260420T231105Z
UID:272-546786@covenantchurch.ca
DTSTART:20261014T220000Z
DTEND:20261015T010000Z
CLASS:PUBLIC
CREATED:20260420T163914
DESCRIPTION:Covenant Youth is back to reguar programming!\nJR HIGH: \n\nGra
 des 6- 8\nEvery Wednesday from 6pm - 8pm\n\nSR HIGH:\n\nGrades 9 - 12\nEve
 ry Wednesday from 7pm - 9pm (portable is open @ 6pm)\n\nAll the info is HE
 RE\nContact brent@covenantchurch.ca for more info/to join our email distri
 bution list OR check out our instagram https://www.instagram.com/covenanty
 outhministry/
LAST-MODIFIED:20260420T163914
LOCATION:Covenant Christian Community Church
SUMMARY:Covenant Youth
URL;VALUE=URI:https://www.covenantchurch.ca/events/covenant-youth--272/2026
 -10-14
ATTACH;FILENAME=Youth Powerpoint.jpg;FMTTYPE=image/jpeg:https://dq5pwpg1q8r
 u0.cloudfront.net/2024/04/04/14/20/42/c068ab68-199c-4273-9e50-6c264367174e
 /Youth%20Powerpoint.jpg
END:VEVENT
END:VCALENDAR
